BEGIN:VCALENDAR
PRODID:-//AT Content Types//AT Event//EN
VERSION:2.0
METHOD:PUBLISH
BEGIN:VEVENT
DTSTAMP:20200301T163530Z
CREATED:20180726T074817Z
UID:ATEvent-5892805618e561fd3a8a48df33aabfe8
LAST-MODIFIED:20180829T061242Z
SUMMARY:WA Session - completed
DTSTART:20180822T030000Z
DTEND:20180822T060000Z
DESCRIPTION:Forum session held in Perth\, for industry and organisatio
 ns based in Western Australia.\n\nLocation:\nTechnology Park\n2 Brodie
 -Hall Drive\nBentley\, Perth WA 6102
CLASS:PUBLIC
END:VEVENT
END:VCALENDAR
