BEGIN:VCALENDAR
PRODID:-//AT Content Types//AT Event//EN
VERSION:2.0
METHOD:PUBLISH
BEGIN:VEVENT
DTSTAMP:20200301T163536Z
CREATED:20180726T074817Z
UID:ATEvent-f0e2ec709b035d6f9de1b549ba032533
LAST-MODIFIED:20180829T061242Z
SUMMARY:VIC Session - completed
DTSTART:20180823T030000Z
DTEND:20180823T060000Z
DESCRIPTION:Forum session held in Melbourne\, for industry and organis
 ations based in Victoria.\n\nLocation:\nLevel 5\, 121 Exhibition Stree
 t,\nMelbourne VIC
CLASS:PUBLIC
END:VEVENT
END:VCALENDAR
