BEGIN:VCALENDAR
PRODID:-//AT Content Types//AT Event//EN
VERSION:2.0
METHOD:PUBLISH
BEGIN:VEVENT
DTSTAMP:20200301T163547Z
CREATED:20180730T013154Z
UID:ATEvent-d9ee33f3c1513ea46bf435d91fc13145
LAST-MODIFIED:20180829T061242Z
SUMMARY:TAS Session (Teleconference) - completed
DTSTART:20180829T030000Z
DTEND:20180829T060000Z
DESCRIPTION:Teleconference forum session held for industry and organis
 ations based in Tasmania.\n\nTeleconference details:\nThe conference d
 ial in number will be provided to registered attendees prior to the se
 ssion.
CLASS:PUBLIC
END:VEVENT
END:VCALENDAR
