BEGIN:VCALENDAR
PRODID:-//AT Content Types//AT Event//EN
VERSION:2.0
METHOD:PUBLISH
BEGIN:VEVENT
DTSTAMP:20200301T163518Z
CREATED:20180726T074817Z
UID:ATEvent-72dac81be25bd16e5309e3109b533e86
LAST-MODIFIED:20180829T061242Z
SUMMARY:SA Session - completed
DTSTART:20180817T030000Z
DTEND:20180817T060000Z
DESCRIPTION:Forum session held in Adelaide\, for industry and organisa
 tions based in South Australia.\n\nLocation:\nLot Fourteen\nCorner of 
 North Terrace and Frome Road\nAdelaide SA 5000\n\n(Lot Fourteen is at 
 the former Royal Adelaide Hospital site)
CLASS:PUBLIC
END:VEVENT
END:VCALENDAR
