BEGIN:VCALENDAR
PRODID:-//AT Content Types//AT Event//EN
VERSION:2.0
METHOD:PUBLISH
BEGIN:VEVENT
DTSTAMP:20200301T163523Z
CREATED:20180726T074818Z
UID:ATEvent-a30325f15fc6cdc0d725a64775a7c371
LAST-MODIFIED:20180829T061242Z
SUMMARY:QLD Session - completed
DTSTART:20180819T230000Z
DTEND:20180820T020000Z
DESCRIPTION:Forum session held in Brisbane\, for industry and organisa
 tions based in Queensland.\n\nLocation: \nQueensland Government Office
 s\nLevel 41\, 1 William Street\nBrisbane QLD
CLASS:PUBLIC
END:VEVENT
END:VCALENDAR
