BEGIN:VCALENDAR
PRODID:-//AT Content Types//AT Event//EN
VERSION:2.0
METHOD:PUBLISH
BEGIN:VEVENT
DTSTAMP:20200301T163542Z
CREATED:20180726T074818Z
UID:ATEvent-6c280d6bd5583bcb02bd2b34928d71ea
LAST-MODIFIED:20180829T061242Z
SUMMARY:NT Session - completed
DTSTART:20180827T030000Z
DTEND:20180827T060000Z
DESCRIPTION:Forum session held in Darwin\, for industry and organisati
 ons based in the Northern Territory.\n\nLocation:\nDarwin Innovation H
 ub\nLevel 1\, 48-50 Smith Street\nDarwin City NT 0800
CLASS:PUBLIC
END:VEVENT
END:VCALENDAR
