BEGIN:VCALENDAR
PRODID:-//AT Content Types//AT Event//EN
VERSION:2.0
METHOD:PUBLISH
BEGIN:VEVENT
DTSTAMP:20200301T163514Z
CREATED:20180726T074818Z
UID:ATEvent-988de26fb8ed8653d88257a931db8b5a
LAST-MODIFIED:20180829T061242Z
SUMMARY:NSW Session - completed
DTSTART:20180815T230000Z
DTEND:20180816T020000Z
DESCRIPTION:Forum session on 16 August\, held in Sydney\, for industry
  and organisations based in New South Wales.\n\nLocation: \nMLC centre
 \nLevel 48\, 19 Martin Place\nSydney NSW 2000
CLASS:PUBLIC
END:VEVENT
END:VCALENDAR
