BEGIN:VCALENDAR
PRODID:-//AT Content Types//AT Event//EN
VERSION:2.0
METHOD:PUBLISH
BEGIN:VEVENT
DTSTAMP:20200301T163510Z
CREATED:20180726T074818Z
UID:ATEvent-a1cac2b65cb75c838bd2bd24a4da649b
LAST-MODIFIED:20180829T061242Z
SUMMARY:ACT Session - completed
DTSTART:20180813T030000Z
DTEND:20180813T060000Z
DESCRIPTION:Forum session held in Canberra\, for industry and organisa
 tions based in the Australian Capital Territory.\n\nLocation:\nCanberr
 a Innovation Network (CBRIN)\n5/1 Moore Street\nCanberra ACT 2601
CLASS:PUBLIC
END:VEVENT
END:VCALENDAR
